Package: BiocSingular Version: 1.23.0 Command: /Library/Frameworks/R.framework/Resources/bin/R CMD check --install=check:BiocSingular.install-out.txt --library=/Library/Frameworks/R.framework/Resources/library --no-vignettes --timings BiocSingular_1.23.0.tar.gz StartedAt: 2025-02-20 19:06:06 -0500 (Thu, 20 Feb 2025) EndedAt: 2025-02-20 19:09:49 -0500 (Thu, 20 Feb 2025) EllapsedTime: 222.7 seconds RetCode: 0 Status: WARNINGS CheckDir: BiocSingular.Rcheck Warnings: 1