Package: BiocSingular Version: 1.23.0 Command: /Library/Frameworks/R.framework/Resources/bin/R CMD build --keep-empty-dirs --no-resave-data BiocSingular StartedAt: 2025-02-20 16:00:26 -0500 (Thu, 20 Feb 2025) EndedAt: 2025-02-20 16:01:06 -0500 (Thu, 20 Feb 2025) EllapsedTime: 39.8 seconds RetCode: 0 Status: OK PackageFile: BiocSingular_1.23.0.tar.gz PackageFileSize: 602.2 KiB