Package: BiocSet Version: 1.21.0 Command: E:\biocbuild\bbs-3.21-bioc\R\bin\R.exe CMD check --no-multiarch --install=check:BiocSet.install-out.txt --library=E:\biocbuild\bbs-3.21-bioc\R\library --no-vignettes --timings BiocSet_1.21.0.tar.gz StartedAt: 2025-02-20 23:11:22 -0500 (Thu, 20 Feb 2025) EndedAt: 2025-02-20 23:22:14 -0500 (Thu, 20 Feb 2025) EllapsedTime: 651.3 seconds RetCode: 0 Status: OK CheckDir: BiocSet.Rcheck Warnings: 0