Package: BiocSet Version: 1.21.0 Command: /home/biocbuild/bbs-3.21-bioc/R/bin/R CMD check --install=check:BiocSet.install-out.txt --library=/home/biocbuild/bbs-3.21-bioc/R/site-library --timings BiocSet_1.21.0.tar.gz StartedAt: 2025-02-20 20:19:48 -0500 (Thu, 20 Feb 2025) EndedAt: 2025-02-20 20:26:14 -0500 (Thu, 20 Feb 2025) EllapsedTime: 386.7 seconds RetCode: 0 Status: OK CheckDir: BiocSet.Rcheck Warnings: 0