Package: BiocSet Version: 1.21.0 Command: /Library/Frameworks/R.framework/Resources/bin/R CMD build --keep-empty-dirs --no-resave-data BiocSet StartedAt: 2025-02-20 15:41:06 -0500 (Thu, 20 Feb 2025) EndedAt: 2025-02-20 15:43:12 -0500 (Thu, 20 Feb 2025) EllapsedTime: 125.3 seconds RetCode: 0 Status: OK PackageFile: BiocSet_1.21.0.tar.gz PackageFileSize: 359 KiB