Package: BiocPkgTools Version: 1.25.2 Command: E:\biocbuild\bbs-3.21-bioc\R\bin\R.exe CMD INSTALL BiocPkgTools StartedAt: 2025-02-19 16:15:39 -0500 (Wed, 19 Feb 2025) EndedAt: 2025-02-19 16:16:42 -0500 (Wed, 19 Feb 2025) EllapsedTime: 63.1 seconds RetCode: 0 Status: OK