Package: BiocPkgTools Version: 1.25.2 Command: /home/biocbuild/R/R/bin/R CMD check --install=check:BiocPkgTools.install-out.txt --library=/home/biocbuild/R/R/site-library --no-vignettes --timings BiocPkgTools_1.25.2.tar.gz StartedAt: 2025-01-27 04:43:45 -0000 (Mon, 27 Jan 2025) EndedAt: 2025-01-27 05:55:27 -0000 (Mon, 27 Jan 2025) EllapsedTime: 4302.0 seconds RetCode: None Status: TIMEOUT CheckDir: BiocPkgTools.Rcheck Warnings: NA