Package: BiocParallel Version: 1.41.2 Command: chmod a+r BiocParallel -R && E:\biocbuild\bbs-3.21-bioc\R\bin\R.exe CMD build --keep-empty-dirs --no-resave-data BiocParallel StartedAt: 2025-02-20 17:31:14 -0500 (Thu, 20 Feb 2025) EndedAt: 2025-02-20 17:36:24 -0500 (Thu, 20 Feb 2025) EllapsedTime: 310.0 seconds RetCode: 0 Status: OK PackageFile: BiocParallel_1.41.2.tar.gz PackageFileSize: 976.8 KiB