Package: BiocParallel Version: 1.41.2 Command: /home/biocbuild/bbs-3.21-bioc/R/bin/R CMD INSTALL BiocParallel StartedAt: 2025-02-20 15:06:06 -0500 (Thu, 20 Feb 2025) EndedAt: 2025-02-20 15:06:20 -0500 (Thu, 20 Feb 2025) EllapsedTime: 14.2 seconds RetCode: 0 Status: OK