Package: BiocParallel Version: 1.41.2 Command: /home/biocbuild/bbs-3.21-bioc/R/bin/R CMD check --install=check:BiocParallel.install-out.txt --library=/home/biocbuild/bbs-3.21-bioc/R/site-library --timings BiocParallel_1.41.2.tar.gz StartedAt: 2025-02-20 20:19:23 -0500 (Thu, 20 Feb 2025) EndedAt: 2025-02-20 20:26:11 -0500 (Thu, 20 Feb 2025) EllapsedTime: 408.7 seconds RetCode: 0 Status: OK CheckDir: BiocParallel.Rcheck Warnings: 0