Package: BiocParallel Version: 1.41.2 Command: /home/biocbuild/bbs-3.21-bioc/R/bin/R CMD build --keep-empty-dirs --no-resave-data BiocParallel StartedAt: 2025-02-20 16:38:21 -0500 (Thu, 20 Feb 2025) EndedAt: 2025-02-20 16:40:18 -0500 (Thu, 20 Feb 2025) EllapsedTime: 117.1 seconds RetCode: 0 Status: OK PackageFile: BiocParallel_1.41.2.tar.gz PackageFileSize: 973.6 KiB