Package: BiocParallel Version: 1.41.2 Command: /Library/Frameworks/R.framework/Resources/bin/R CMD check --install=check:BiocParallel.install-out.txt --library=/Library/Frameworks/R.framework/Resources/library --no-vignettes --timings BiocParallel_1.41.2.tar.gz StartedAt: 2025-02-20 19:05:35 -0500 (Thu, 20 Feb 2025) EndedAt: 2025-02-20 19:14:29 -0500 (Thu, 20 Feb 2025) EllapsedTime: 533.7 seconds RetCode: 1 Status: ERROR CheckDir: BiocParallel.Rcheck Warnings: NA