############################################################################## ############################################################################## ### ### Running command: ### ### /Library/Frameworks/R.framework/Resources/bin/R CMD build --keep-empty-dirs --no-resave-data BiocParallel ### ############################################################################## ############################################################################## * checking for file ‘BiocParallel/DESCRIPTION’ ... OK * preparing ‘BiocParallel’: * checking DESCRIPTION meta-information ... OK * cleaning src * running ‘cleanup’ * installing the package to build vignettes * creating vignettes ... OK * cleaning src * running ‘cleanup’ * checking for LF line-endings in source and make files and shell scripts * checking for empty or unneeded directories NB: this package now depends on R (>= 4.1.0) WARNING: Added dependency on R >= 4.1.0 because package code uses the pipe |> or function shorthand \(...) syntax added in R 4.1.0. File(s) using such syntax: ‘worker.R’ * building ‘BiocParallel_1.41.2.tar.gz’