Package: BiocParallel Version: 1.41.2 Command: rm -rf BiocParallel.buildbin-libdir && mkdir BiocParallel.buildbin-libdir && /Users/biocbuild/BBS/utils/build-universal.sh BiocParallel_1.41.2.tar.gz /Library/Frameworks/R.framework/Resources/bin/R BiocParallel.buildbin-libdir StartedAt: 2025-02-21 00:21:06 -0500 (Fri, 21 Feb 2025) EndedAt: 2025-02-21 00:21:39 -0500 (Fri, 21 Feb 2025) EllapsedTime: 32.5 seconds RetCode: 0 Status: OK PackageFile: BiocParallel_1.41.2.tgz PackageFileSize: 1.535 MiB