Package: BiocParallel Version: 1.42.2 Command: /home/biocbuild/R/R/bin/R CMD INSTALL BiocParallel StartedAt: 2025-10-13 20:14:56 -0000 (Mon, 13 Oct 2025) EndedAt: 2025-10-13 20:15:20 -0000 (Mon, 13 Oct 2025) EllapsedTime: 23.1 seconds RetCode: 0 Status: OK