Package: BiocParallel Version: 1.42.2 Command: /home/biocbuild/R/R/bin/R CMD build --keep-empty-dirs --no-resave-data BiocParallel StartedAt: 2025-10-13 23:06:48 -0000 (Mon, 13 Oct 2025) EndedAt: 2025-10-13 23:08:43 -0000 (Mon, 13 Oct 2025) EllapsedTime: 115.0 seconds RetCode: 0 Status: OK PackageFile: BiocParallel_1.42.2.tar.gz PackageFileSize: 1.148 MiB