Package: BiocParallel Version: 1.41.2 Command: /Library/Frameworks/R.framework/Resources/bin/R CMD INSTALL BiocParallel StartedAt: 2025-02-21 15:07:14 -0500 (Fri, 21 Feb 2025) EndedAt: 2025-02-21 15:07:21 -0500 (Fri, 21 Feb 2025) EllapsedTime: 6.9 seconds RetCode: 0 Status: OK