Package: BiocParallel Version: 1.41.2 Command: /Library/Frameworks/R.framework/Resources/bin/R CMD build --keep-empty-dirs --no-resave-data BiocParallel StartedAt: 2025-02-20 15:41:01 -0500 (Thu, 20 Feb 2025) EndedAt: 2025-02-20 15:42:03 -0500 (Thu, 20 Feb 2025) EllapsedTime: 61.6 seconds RetCode: 0 Status: OK PackageFile: BiocParallel_1.41.2.tar.gz PackageFileSize: 973.1 KiB