Package: BiocParallel Version: 1.41.2 Command: rm -rf BiocParallel.buildbin-libdir && mkdir BiocParallel.buildbin-libdir && /Users/biocbuild/BBS/utils/build-universal.sh BiocParallel_1.41.2.tar.gz /Library/Frameworks/R.framework/Resources/bin/R BiocParallel.buildbin-libdir StartedAt: 2025-02-20 22:11:38 -0500 (Thu, 20 Feb 2025) EndedAt: 2025-02-20 22:11:47 -0500 (Thu, 20 Feb 2025) EllapsedTime: 9.2 seconds RetCode: 0 Status: OK PackageFile: BiocParallel_1.41.2.tgz PackageFileSize: 1.53 MiB