Package: BiocParallel Version: 1.41.2 Maintainer: Martin Morgan MaintainerEmail: mtmorgan.bioc at gmail.com git_url: https://git.bioconductor.org/packages/BiocParallel git_branch: devel git_last_commit: efcc9a7 git_last_commit_date: 2025-02-18 17:02:40 -0500 (Tue, 18 Feb 2025)