Package: BiocNeighbors Version: 2.1.2 Command: chmod a+r BiocNeighbors -R && E:\biocbuild\bbs-3.21-bioc\R\bin\R.exe CMD build --keep-empty-dirs --no-resave-data BiocNeighbors StartedAt: 2025-02-18 17:29:35 -0500 (Tue, 18 Feb 2025) EndedAt: 2025-02-18 17:31:25 -0500 (Tue, 18 Feb 2025) EllapsedTime: 110.2 seconds RetCode: 0 Status: OK PackageFile: BiocNeighbors_2.1.2.tar.gz PackageFileSize: 328.8 KiB