Package: BiocIO Version: 1.17.1 Command: E:\biocbuild\bbs-3.21-bioc\R\bin\R.exe CMD INSTALL BiocIO StartedAt: 2025-02-20 15:25:11 -0500 (Thu, 20 Feb 2025) EndedAt: 2025-02-20 15:25:32 -0500 (Thu, 20 Feb 2025) EllapsedTime: 20.8 seconds RetCode: 0 Status: OK