Package: BiocIO Version: 1.17.1 Command: E:\biocbuild\bbs-3.21-bioc\R\bin\R.exe CMD check --no-multiarch --install=check:BiocIO.install-out.txt --library=E:\biocbuild\bbs-3.21-bioc\R\library --no-vignettes --timings BiocIO_1.17.1.tar.gz StartedAt: 2025-02-20 23:10:38 -0500 (Thu, 20 Feb 2025) EndedAt: 2025-02-20 23:11:30 -0500 (Thu, 20 Feb 2025) EllapsedTime: 51.1 seconds RetCode: 0 Status: OK CheckDir: BiocIO.Rcheck Warnings: 0