Package: BiocIO Version: 1.17.1 Command: chmod a+r BiocIO -R && E:\biocbuild\bbs-3.21-bioc\R\bin\R.exe CMD build --keep-empty-dirs --no-resave-data BiocIO StartedAt: 2025-02-20 17:30:48 -0500 (Thu, 20 Feb 2025) EndedAt: 2025-02-20 17:31:09 -0500 (Thu, 20 Feb 2025) EllapsedTime: 21.5 seconds RetCode: 0 Status: OK PackageFile: BiocIO_1.17.1.tar.gz PackageFileSize: 226.5 KiB