Package: BiocIO Version: 1.17.1 Command: rm -rf BiocIO.buildbin-libdir && mkdir BiocIO.buildbin-libdir && E:\biocbuild\bbs-3.21-bioc\R\bin\R.exe CMD INSTALL --build --library=BiocIO.buildbin-libdir BiocIO_1.17.1.tar.gz StartedAt: 2025-02-21 07:38:32 -0500 (Fri, 21 Feb 2025) EndedAt: 2025-02-21 07:39:00 -0500 (Fri, 21 Feb 2025) EllapsedTime: 28.7 seconds RetCode: 0 Status: OK PackageFile: BiocIO_1.17.1.zip PackageFileSize: 416.7 KiB