Package: BiocIO Version: 1.17.1 Command: /home/biocbuild/bbs-3.21-bioc/R/bin/R CMD INSTALL BiocIO StartedAt: 2025-02-21 15:54:39 -0500 (Fri, 21 Feb 2025) EndedAt: 2025-02-21 15:54:44 -0500 (Fri, 21 Feb 2025) EllapsedTime: 4.7 seconds RetCode: 0 Status: OK