Package: BiocIO Version: 1.17.1 Command: /home/biocbuild/bbs-3.21-bioc/R/bin/R CMD check --install=check:BiocIO.install-out.txt --library=/home/biocbuild/bbs-3.21-bioc/R/site-library --timings BiocIO_1.17.1.tar.gz StartedAt: 2025-02-21 20:39:49 -0500 (Fri, 21 Feb 2025) EndedAt: 2025-02-21 20:40:25 -0500 (Fri, 21 Feb 2025) EllapsedTime: 36.0 seconds RetCode: 0 Status: OK CheckDir: BiocIO.Rcheck Warnings: 0