Package: BiocIO Version: 1.17.1 Command: /Library/Frameworks/R.framework/Resources/bin/R CMD INSTALL BiocIO StartedAt: 2025-02-20 15:06:58 -0500 (Thu, 20 Feb 2025) EndedAt: 2025-02-20 15:07:32 -0500 (Thu, 20 Feb 2025) EllapsedTime: 33.2 seconds RetCode: 0 Status: OK