Package: BiocIO Version: 1.17.1 Command: /home/biocbuild/R/R/bin/R CMD build --keep-empty-dirs --no-resave-data BiocIO StartedAt: 2025-01-29 21:14:10 -0000 (Wed, 29 Jan 2025) EndedAt: 2025-01-29 21:14:21 -0000 (Wed, 29 Jan 2025) EllapsedTime: 11.0 seconds RetCode: 0 Status: OK PackageFile: BiocIO_1.17.1.tar.gz PackageFileSize: 251.2 KiB