Package: BiocHail Version: 1.7.1 Command: /home/biocbuild/bbs-3.21-bioc/R/bin/R CMD check --install=check:BiocHail.install-out.txt --library=/home/biocbuild/bbs-3.21-bioc/R/site-library --timings BiocHail_1.7.1.tar.gz StartedAt: 2025-02-10 20:32:11 -0500 (Mon, 10 Feb 2025) EndedAt: 2025-02-10 20:40:52 -0500 (Mon, 10 Feb 2025) EllapsedTime: 521.0 seconds RetCode: 0 Status: OK CheckDir: BiocHail.Rcheck Warnings: 0