Package: BiocGenerics Version: 0.53.6 Command: E:\biocbuild\bbs-3.21-bioc\R\bin\R.exe CMD check --no-multiarch --install=check:BiocGenerics.install-out.txt --library=E:\biocbuild\bbs-3.21-bioc\R\library --no-vignettes --timings BiocGenerics_0.53.6.tar.gz StartedAt: 2025-02-20 23:09:37 -0500 (Thu, 20 Feb 2025) EndedAt: 2025-02-20 23:10:51 -0500 (Thu, 20 Feb 2025) EllapsedTime: 74.5 seconds RetCode: 0 Status: WARNINGS CheckDir: BiocGenerics.Rcheck Warnings: 1