Package: BiocFileCache Version: 2.15.1 Command: /home/biocbuild/bbs-3.21-bioc/R/bin/R CMD INSTALL BiocFileCache StartedAt: 2025-02-20 15:16:28 -0500 (Thu, 20 Feb 2025) EndedAt: 2025-02-20 15:16:35 -0500 (Thu, 20 Feb 2025) EllapsedTime: 6.9 seconds RetCode: 0 Status: OK