Package: BiocFileCache Version: 2.15.1 Command: /home/biocbuild/bbs-3.21-bioc/R/bin/R CMD check --install=check:BiocFileCache.install-out.txt --library=/home/biocbuild/bbs-3.21-bioc/R/site-library --timings BiocFileCache_2.15.1.tar.gz StartedAt: 2025-02-20 20:18:20 -0500 (Thu, 20 Feb 2025) EndedAt: 2025-02-20 20:20:21 -0500 (Thu, 20 Feb 2025) EllapsedTime: 120.3 seconds RetCode: 0 Status: OK CheckDir: BiocFileCache.Rcheck Warnings: 0