Package: BiocFileCache Version: 2.15.1 Command: /Library/Frameworks/R.framework/Resources/bin/R CMD build --keep-empty-dirs --no-resave-data BiocFileCache StartedAt: 2025-02-20 15:59:52 -0500 (Thu, 20 Feb 2025) EndedAt: 2025-02-20 16:01:20 -0500 (Thu, 20 Feb 2025) EllapsedTime: 87.9 seconds RetCode: 0 Status: OK PackageFile: BiocFileCache_2.15.1.tar.gz PackageFileSize: 722 KiB