Package: BiocFileCache Version: 2.15.1 Command: /Library/Frameworks/R.framework/Resources/bin/R CMD INSTALL BiocFileCache StartedAt: 2025-02-20 15:07:07 -0500 (Thu, 20 Feb 2025) EndedAt: 2025-02-20 15:07:10 -0500 (Thu, 20 Feb 2025) EllapsedTime: 2.9 seconds RetCode: 0 Status: OK