Package: BiocFileCache Version: 2.16.2 Command: /Library/Frameworks/R.framework/Resources/bin/R CMD INSTALL BiocFileCache StartedAt: 2025-10-09 15:24:46 -0400 (Thu, 09 Oct 2025) EndedAt: 2025-10-09 15:24:55 -0400 (Thu, 09 Oct 2025) EllapsedTime: 9.0 seconds RetCode: 0 Status: OK