Package: BiocFileCache Version: 2.16.2 Command: /Library/Frameworks/R.framework/Resources/bin/R CMD build --keep-empty-dirs --no-resave-data BiocFileCache StartedAt: 2025-10-09 20:09:29 -0400 (Thu, 09 Oct 2025) EndedAt: 2025-10-09 20:10:50 -0400 (Thu, 09 Oct 2025) EllapsedTime: 81.1 seconds RetCode: 0 Status: OK PackageFile: BiocFileCache_2.16.2.tar.gz PackageFileSize: 722.7 KiB