Package: BiocFileCache Version: 2.16.2 Command: rm -rf BiocFileCache.buildbin-libdir && mkdir BiocFileCache.buildbin-libdir && /Users/biocbuild/BBS/utils/build-universal.sh BiocFileCache_2.16.2.tar.gz /Library/Frameworks/R.framework/Resources/bin/R BiocFileCache.buildbin-libdir StartedAt: 2025-10-11 19:12:36 -0400 (Sat, 11 Oct 2025) EndedAt: 2025-10-11 19:12:47 -0400 (Sat, 11 Oct 2025) EllapsedTime: 11.5 seconds RetCode: 0 Status: OK PackageFile: BiocFileCache_2.16.2.tgz PackageFileSize: 945.5 KiB