Package: BiocFHIR Version: 1.9.0 Command: E:\biocbuild\bbs-3.21-bioc\R\bin\R.exe CMD check --no-multiarch --install=check:BiocFHIR.install-out.txt --library=E:\biocbuild\bbs-3.21-bioc\R\library --no-vignettes --timings BiocFHIR_1.9.0.tar.gz StartedAt: 2025-02-20 23:09:27 -0500 (Thu, 20 Feb 2025) EndedAt: 2025-02-20 23:11:10 -0500 (Thu, 20 Feb 2025) EllapsedTime: 102.5 seconds RetCode: 0 Status: OK CheckDir: BiocFHIR.Rcheck Warnings: 0