Package: BiocFHIR Version: 1.9.0 Command: /home/biocbuild/R/R/bin/R CMD check --install=check:BiocFHIR.install-out.txt --library=/home/biocbuild/R/R/site-library --no-vignettes --timings BiocFHIR_1.9.0.tar.gz StartedAt: 2025-01-28 03:52:54 -0000 (Tue, 28 Jan 2025) EndedAt: 2025-01-28 03:54:34 -0000 (Tue, 28 Jan 2025) EllapsedTime: 99.2 seconds RetCode: 0 Status: OK CheckDir: BiocFHIR.Rcheck Warnings: 0