Package: BiocFHIR Version: 1.9.0 Command: /Library/Frameworks/R.framework/Resources/bin/R CMD build --keep-empty-dirs --no-resave-data BiocFHIR StartedAt: 2025-02-20 15:40:40 -0500 (Thu, 20 Feb 2025) EndedAt: 2025-02-20 15:40:53 -0500 (Thu, 20 Feb 2025) EllapsedTime: 13.1 seconds RetCode: 0 Status: OK PackageFile: BiocFHIR_1.9.0.tar.gz PackageFileSize: 4.288 MiB