Package: BiocCheck Version: 1.43.11 Command: chmod a+r BiocCheck -R && E:\biocbuild\bbs-3.21-bioc\R\bin\R.exe CMD build --keep-empty-dirs --no-resave-data BiocCheck StartedAt: 2025-02-20 17:30:16 -0500 (Thu, 20 Feb 2025) EndedAt: 2025-02-20 17:30:56 -0500 (Thu, 20 Feb 2025) EllapsedTime: 40.0 seconds RetCode: 0 Status: OK PackageFile: BiocCheck_1.43.11.tar.gz PackageFileSize: 308.3 KiB