Package: BiocCheck Version: 1.43.11 Command: rm -rf BiocCheck.buildbin-libdir && mkdir BiocCheck.buildbin-libdir && E:\biocbuild\bbs-3.21-bioc\R\bin\R.exe CMD INSTALL --build --library=BiocCheck.buildbin-libdir BiocCheck_1.43.11.tar.gz StartedAt: 2025-02-21 07:38:13 -0500 (Fri, 21 Feb 2025) EndedAt: 2025-02-21 07:39:18 -0500 (Fri, 21 Feb 2025) EllapsedTime: 65.6 seconds RetCode: 0 Status: OK PackageFile: BiocCheck_1.43.11.zip PackageFileSize: 652.7 KiB