Package: BiocCheck Version: 1.43.10 Command: /Library/Frameworks/R.framework/Resources/bin/R CMD check --install=check:BiocCheck.install-out.txt --library=/Library/Frameworks/R.framework/Resources/library --no-vignettes --timings BiocCheck_1.43.10.tar.gz StartedAt: 2025-02-19 18:15:44 -0500 (Wed, 19 Feb 2025) EndedAt: 2025-02-19 18:17:22 -0500 (Wed, 19 Feb 2025) EllapsedTime: 97.8 seconds RetCode: 0 Status: OK CheckDir: BiocCheck.Rcheck Warnings: 0