Package: BiocCheck Version: 1.43.10 Command: rm -rf BiocCheck.buildbin-libdir && mkdir BiocCheck.buildbin-libdir && /Users/biocbuild/BBS/utils/build-universal.sh BiocCheck_1.43.10.tar.gz /Library/Frameworks/R.framework/Resources/bin/R BiocCheck.buildbin-libdir StartedAt: 2025-02-19 22:14:40 -0500 (Wed, 19 Feb 2025) EndedAt: 2025-02-19 22:14:45 -0500 (Wed, 19 Feb 2025) EllapsedTime: 5.1 seconds RetCode: 0 Status: OK PackageFile: BiocCheck_1.43.10.tgz PackageFileSize: 641.4 KiB