Package: BiocBook Version: 1.5.0 Command: E:\biocbuild\bbs-3.21-bioc\R\bin\R.exe CMD INSTALL BiocBook StartedAt: 2025-02-21 16:13:55 -0500 (Fri, 21 Feb 2025) EndedAt: 2025-02-21 16:14:23 -0500 (Fri, 21 Feb 2025) EllapsedTime: 27.7 seconds RetCode: 0 Status: OK