Package: BiocBook Version: 1.5.0 Command: /home/biocbuild/bbs-3.21-bioc/R/bin/R CMD INSTALL BiocBook StartedAt: 2025-02-20 15:20:48 -0500 (Thu, 20 Feb 2025) EndedAt: 2025-02-20 15:20:53 -0500 (Thu, 20 Feb 2025) EllapsedTime: 5.5 seconds RetCode: 0 Status: OK