Package: BiocBook Version: 1.5.0 Command: /Library/Frameworks/R.framework/Resources/bin/R CMD INSTALL BiocBook StartedAt: 2025-02-21 15:24:01 -0500 (Fri, 21 Feb 2025) EndedAt: 2025-02-21 15:24:12 -0500 (Fri, 21 Feb 2025) EllapsedTime: 10.6 seconds RetCode: 0 Status: OK