Package: BiocBook Version: 1.5.0 Command: rm -rf BiocBook.buildbin-libdir && mkdir BiocBook.buildbin-libdir && /Users/biocbuild/BBS/utils/build-universal.sh BiocBook_1.5.0.tar.gz /Library/Frameworks/R.framework/Resources/bin/R BiocBook.buildbin-libdir StartedAt: 2025-02-22 00:21:59 -0500 (Sat, 22 Feb 2025) EndedAt: 2025-02-22 00:22:11 -0500 (Sat, 22 Feb 2025) EllapsedTime: 11.7 seconds RetCode: 0 Status: OK PackageFile: BiocBook_1.5.0.tgz PackageFileSize: 1.027 MiB