Package: BiocBaseUtils Version: 1.9.0 Command: E:\biocbuild\bbs-3.21-bioc\R\bin\R.exe CMD INSTALL BiocBaseUtils StartedAt: 2025-02-19 15:20:24 -0500 (Wed, 19 Feb 2025) EndedAt: 2025-02-19 15:20:36 -0500 (Wed, 19 Feb 2025) EllapsedTime: 11.7 seconds RetCode: 0 Status: OK